BEGIN:VCALENDAR
VERSION:2.0
PRODID:icalendar-ruby
CALSCALE:GREGORIAN
METHOD:PUBLISH
BEGIN:VEVENT
DTSTAMP:20260424T200254Z
UID:10-1474994@thebridgeclover.com
DTSTART:20260927T134500Z
DTEND:20260927T143000Z
CLASS:PUBLIC
CREATED:20260424T135736
DESCRIPTION:
LAST-MODIFIED:20260424T135736
LOCATION:The Bridge
SUMMARY:Adult Bible Study
URL;VALUE=URI:https://www.thebridgeclover.com/events/adult-bible-study/2026
 -09-27
END:VEVENT
END:VCALENDAR
