BEGIN:VCALENDAR
VERSION:2.0
PRODID:icalendar-ruby
CALSCALE:GREGORIAN
METHOD:PUBLISH
BEGIN:VEVENT
DTSTAMP:20260424T214415Z
UID:10-1475615@thebridgeclover.com
DTSTART:20261004T134500Z
DTEND:20261004T143000Z
CLASS:PUBLIC
CREATED:20260424T164502
DESCRIPTION:
LAST-MODIFIED:20260424T164502
LOCATION:The Bridge
SUMMARY:Adult Bible Study
URL;VALUE=URI:https://www.thebridgeclover.com/events/adult-bible-study/2026
 -10-04
END:VEVENT
END:VCALENDAR
