BEGIN:VCALENDAR
VERSION:2.0
PRODID:icalendar-ruby
CALSCALE:GREGORIAN
METHOD:PUBLISH
BEGIN:VEVENT
DTSTAMP:20260425T013646Z
UID:10-1476237@thebridgeclover.com
DTSTART:20261018T134500Z
DTEND:20261018T143000Z
CLASS:PUBLIC
CREATED:20260424T193254
DESCRIPTION:
LAST-MODIFIED:20260424T193254
LOCATION:The Bridge
SUMMARY:Adult Bible Study
URL;VALUE=URI:https://www.thebridgeclover.com/events/adult-bible-study/2026
 -10-18
END:VEVENT
END:VCALENDAR
