BEGIN:VCALENDAR
VERSION:2.0
PRODID:icalendar-ruby
CALSCALE:GREGORIAN
METHOD:PUBLISH
BEGIN:VEVENT
DTSTAMP:20260425T030849Z
UID:10-1476858@thebridgeclover.com
DTSTART:20261025T134500Z
DTEND:20261025T143000Z
CLASS:PUBLIC
CREATED:20260424T222217
DESCRIPTION:
LAST-MODIFIED:20260424T222217
LOCATION:The Bridge
SUMMARY:Adult Bible Study
URL;VALUE=URI:https://www.thebridgeclover.com/events/adult-bible-study/2026
 -10-25
END:VEVENT
END:VCALENDAR
