BEGIN:VCALENDAR
VERSION:2.0
PRODID:icalendar-ruby
CALSCALE:GREGORIAN
METHOD:PUBLISH
BEGIN:VEVENT
DTSTAMP:20260424T140140Z
UID:7-1473635@thebridgeclover.com
DTSTART:20260920T144500Z
DTEND:20260920T160000Z
CLASS:PUBLIC
CREATED:20260424T081814
DESCRIPTION:
LAST-MODIFIED:20260424T081814
LOCATION:The Bridge
SUMMARY:Kidz Church
URL;VALUE=URI:https://www.thebridgeclover.com/events/kidz-church/2026-09-20
ATTACH;FILENAME=IMG_8181-%281%29.png;FMTTYPE=image/png:https://dq5pwpg1q8ru
 0.cloudfront.net/2024/06/30/13/51/53/e3684ed9-3b4c-4620-9dde-6a6b9bcb0de9/
 IMG_8181-%25281%2529.png
END:VEVENT
END:VCALENDAR
